BEGIN:VCALENDAR
VERSION:2.0
PRODID:-//eventon.com NONSGML v1.0//EN
CALSCALE:GREGORIAN
METHOD:PUBLISH
BEGIN:VEVENT
UID:69eb762c65eea
DTSTAMP:20260424T135452Z
DTSTART:20260605T071500Z
DTEND:20260605T124500Z
LOCATION:http://www.clickmeeting.com
SUMMARY:Thementag Digitale Souveränität – Handlungsfähigkeit sichern in einer vernetzten Welt
DESCRIPTION:[vc_row][vc_column][vc_empty_space]Thementag Digitale Souverän
 ität – Handlungsfähigkeit sichern in einer vernetzten Welt[vc_empty_spa
 ce][vc_column_text css=&#8220;&#8220;]Die geopolitische Lage verändert sic
 h – und mit ihr der Blick auf digitale Infrastrukturen. Staat und Verwalt
 ung sind aktuell in vielen Bereichen auf eine Hand voll ausländischer Hype
 rscaler angewiesen. Diese Abhängigkeiten machen digitale Technologien zu e
 iner strategischen Frage staatlicher Handlungsfähigkeit.[..]\nhttps://www.
 digitaler-staat.online/events/thementag-digitale-souv/var/event_access
URL:https://www.digitaler-staat.online/events/thementag-digitale-souv/var/event_access
END:VEVENT
END:VCALENDAR